BEGIN:VCALENDAR
VERSION:2.0
METHOD:PUBLISH
BEGIN:VEVENT
DTSTART:20190831T153000Z
DTEND:20190901T193000Z
LOCATION:Aurora, CO 80011
TRANSP: OPAQUE
SEQUENCE:0
UID:
DTSTAMP:20260420T204617Z
SUMMARY:Collins Sale
DESCRIPTION:Collins Sale Adan’s Hidden Treasures Estate Sale Company 
UID:1776739577
STREET-ADDRESS:See website
POSTAL-CODE:80011
LOCALITY:Aurora
REGION:ABBREV=CO
COUNTRY:ABBREV=US;ABBREV=USA:United States
URL;TYPE=Event Listing:https://estatesales.org/estate-sales/co/aurora/80011/collins-sale-1701915
PRIORITY:1
CLASS:PUBLIC
SEQUENCE:0
STATUS:CONFIRMED
TRANSP:OPAQUE
END:VEVENT
END:VCALENDAR
