BEGIN:VCALENDAR
VERSION:2.0
METHOD:PUBLISH
BEGIN:VEVENT
DTSTART:20170831T160000Z
DTEND:20170902T200000Z
LOCATION:Parker, CO 80138
TRANSP: OPAQUE
SEQUENCE:0
UID:
DTSTAMP:20260422T132241Z
SUMMARY:Parker Moving Moving Moving Sale
DESCRIPTION:Parker Moving Moving Moving Sale TCS Estate Sales 
UID:1776885761
STREET-ADDRESS:See website
POSTAL-CODE:80138
LOCALITY:Parker
REGION:ABBREV=CO
COUNTRY:ABBREV=US;ABBREV=USA:United States
URL;TYPE=Event Listing:https://estatesales.org/estate-sales/co/parker/80138/parker-moving-moving-moving-sale-1368537
PRIORITY:1
CLASS:PUBLIC
SEQUENCE:0
STATUS:CONFIRMED
TRANSP:OPAQUE
END:VEVENT
END:VCALENDAR
