BEGIN:VCALENDAR
VERSION:2.0
METHOD:PUBLISH
BEGIN:VEVENT
DTSTART:20130831T170000Z
DTEND:20130901T210000Z
LOCATION:Richmond, CA 94804
TRANSP: OPAQUE
SEQUENCE:0
UID:
DTSTAMP:20260424T122046Z
SUMMARY:HURRY!! EVERYTHING MUST GO
DESCRIPTION:HURRY!! EVERYTHING MUST GO S&S ESTATE SALES 
UID:1777054846
STREET-ADDRESS:See website
POSTAL-CODE:94804
LOCALITY:Richmond
REGION:ABBREV=CA
COUNTRY:ABBREV=US;ABBREV=USA:United States
URL;TYPE=Event Listing:https://estatesales.org/estate-sales/ca/richmond/94804/hurry-everything-must-go-316771
PRIORITY:1
CLASS:PUBLIC
SEQUENCE:0
STATUS:CONFIRMED
TRANSP:OPAQUE
END:VEVENT
END:VCALENDAR
