BEGIN:VCALENDAR
VERSION:2.0
METHOD:PUBLISH
BEGIN:VEVENT
DTSTART:20250830T170000Z
DTEND:20250830T230000Z
LOCATION:Los Angeles, CA 90063
TRANSP: OPAQUE
SEQUENCE:0
UID:
DTSTAMP:20260422T084710Z
SUMMARY:Super Cool Moving Sale! Boho, MCM, Plants & More!
DESCRIPTION:Super Cool Moving Sale! Boho, MCM, Plants & More!
UID:1776869230
STREET-ADDRESS:See website
POSTAL-CODE:90063
LOCALITY:Los Angeles
REGION:ABBREV=CA
COUNTRY:ABBREV=US;ABBREV=USA:United States
URL;TYPE=Event Listing:https://estatesales.org/estate-sales/ca/los-angeles/90063/super-cool-moving-sale-boho-2398750
PRIORITY:1
CLASS:PUBLIC
SEQUENCE:0
STATUS:CONFIRMED
TRANSP:OPAQUE
END:VEVENT
END:VCALENDAR
