BEGIN:VCALENDAR
VERSION:2.0
METHOD:PUBLISH
BEGIN:VEVENT
DTSTART:20240830T160000Z
DTEND:20240831T210000Z
LOCATION:Fresno, CA 93727
TRANSP: OPAQUE
SEQUENCE:0
UID:
DTSTAMP:20260422T045945Z
SUMMARY:HUGE Sunnyside Estate Sale!
DESCRIPTION:HUGE Sunnyside Estate Sale! Basements and Beyond 
UID:1776855585
STREET-ADDRESS:See website
POSTAL-CODE:93727
LOCALITY:Fresno
REGION:ABBREV=CA
COUNTRY:ABBREV=US;ABBREV=USA:United States
URL;TYPE=Event Listing:https://estatesales.org/estate-sales/ca/fresno/93727/huge-sunnyside-estate-sale-2336206
PRIORITY:1
CLASS:PUBLIC
SEQUENCE:0
STATUS:CONFIRMED
TRANSP:OPAQUE
END:VEVENT
END:VCALENDAR
