BEGIN:VCALENDAR
VERSION:2.0
METHOD:PUBLISH
BEGIN:VEVENT
DTSTART:20240830T120000Z
DTEND:20240831T190000Z
LOCATION:Plainville, CT 06062
TRANSP: OPAQUE
SEQUENCE:0
UID:
DTSTAMP:20260425T152547Z
SUMMARY:Plainville Estate Sale featuring years of collecting
DESCRIPTION:Plainville Estate Sale featuring years of collecting Sean Mahoney Estate Sales LLC 
UID:1777152347
STREET-ADDRESS:See website
POSTAL-CODE:06062
LOCALITY:Plainville
REGION:ABBREV=CT
COUNTRY:ABBREV=US;ABBREV=USA:United States
URL;TYPE=Event Listing:https://estatesales.org/estate-sales/ct/plainville-/06062/plainville-estate-sale-featuring-years-2335950
PRIORITY:1
CLASS:PUBLIC
SEQUENCE:0
STATUS:CONFIRMED
TRANSP:OPAQUE
END:VEVENT
END:VCALENDAR
