BEGIN:VCALENDAR
VERSION:2.0
METHOD:PUBLISH
BEGIN:VEVENT
DTSTART:20170830T150000Z
DTEND:20170831T200000Z
LOCATION:Lees Summit, MO 64064
TRANSP: OPAQUE
SEQUENCE:0
UID:
DTSTAMP:20260419T065109Z
SUMMARY:Lee's Summit with Caring Transitions KC
DESCRIPTION:Lee's Summit with Caring Transitions KC Caring Transitions Kansas City 
UID:1776603069
STREET-ADDRESS:See website
POSTAL-CODE:64064
LOCALITY:Lees Summit
REGION:ABBREV=MO
COUNTRY:ABBREV=US;ABBREV=USA:United States
URL;TYPE=Event Listing:https://estatesales.org/estate-sales/mo/lees-summit/64064/lees-summit-with-caring-transitions-1367313
PRIORITY:1
CLASS:PUBLIC
SEQUENCE:0
STATUS:CONFIRMED
TRANSP:OPAQUE
END:VEVENT
END:VCALENDAR
