BEGIN:VCALENDAR
VERSION:2.0
METHOD:PUBLISH
BEGIN:VEVENT
DTSTART:20140830T150000Z
DTEND:20140901T220000Z
LOCATION:Valley Stream, NY 11581
TRANSP: OPAQUE
SEQUENCE:0
UID:
DTSTAMP:20260424T115756Z
SUMMARY:Huge 3-Day Labor Day Weekend Antique Sale - 11am - 6pm 
DESCRIPTION:Huge 3-Day Labor Day Weekend Antique Sale - 11am - 6pm  Antique &amp; Thrift Shop Super Store Flea Market 
UID:1777053476
STREET-ADDRESS:See website
POSTAL-CODE:11581
LOCALITY:Valley Stream
REGION:ABBREV=NY
COUNTRY:ABBREV=US;ABBREV=USA:United States
URL;TYPE=Event Listing:https://estatesales.org/estate-sales/ny/valley-stream/11581/huge-3day-labor-day-weekend-446012
PRIORITY:1
CLASS:PUBLIC
SEQUENCE:0
STATUS:CONFIRMED
TRANSP:OPAQUE
END:VEVENT
END:VCALENDAR
