BEGIN:VCALENDAR
VERSION:2.0
METHOD:PUBLISH
BEGIN:VEVENT
DTSTART:20250829T130000Z
DTEND:20250901T210000Z
LOCATION:Plano, TX 75075
TRANSP: OPAQUE
SEQUENCE:0
UID:
DTSTAMP:20260421T235533Z
SUMMARY:Dallas & Plano Estates Combined 50% Off
DESCRIPTION:Dallas & Plano Estates Combined 50% Off Consignment Crush Estate Sales 
UID:1776837333
STREET-ADDRESS:See website
POSTAL-CODE:75075
LOCALITY:Plano
REGION:ABBREV=TX
COUNTRY:ABBREV=US;ABBREV=USA:United States
URL;TYPE=Event Listing:https://estatesales.org/estate-sales/tx/plano/75075/dallas-plano-estates-combined-50-2398825
PRIORITY:1
CLASS:PUBLIC
SEQUENCE:0
STATUS:CONFIRMED
TRANSP:OPAQUE
END:VEVENT
END:VCALENDAR
