BEGIN:VCALENDAR
VERSION:2.0
METHOD:PUBLISH
BEGIN:VEVENT
DTSTART:20250829T150000Z
DTEND:20250830T220000Z
LOCATION:Oklahoma City, OK 73170
TRANSP: OPAQUE
SEQUENCE:0
UID:
DTSTAMP:20260421T101342Z
SUMMARY:Beautiful 4 bedroom home with all the trimmings
DESCRIPTION:Beautiful 4 bedroom home with all the trimmings Justice Estate Liquidations 
UID:1776788022
STREET-ADDRESS:See website
POSTAL-CODE:73170
LOCALITY:Oklahoma City
REGION:ABBREV=OK
COUNTRY:ABBREV=US;ABBREV=USA:United States
URL;TYPE=Event Listing:https://estatesales.org/estate-sales/ok/moore-/73170/beautiful-4-bedroom-home-with-2398501
PRIORITY:1
CLASS:PUBLIC
SEQUENCE:0
STATUS:CONFIRMED
TRANSP:OPAQUE
END:VEVENT
END:VCALENDAR
