BEGIN:VCALENDAR
VERSION:2.0
METHOD:PUBLISH
BEGIN:VEVENT
DTSTART:20250829T150000Z
DTEND:20250830T190000Z
LOCATION:Mustang, OK 73064
TRANSP: OPAQUE
SEQUENCE:0
UID:
DTSTAMP:20260422T112202Z
SUMMARY:PJ's Four Star Estate Sales Presents sale Fri. from 9-3 & Sat. 9-1 in MUSTANG north of 152 off Morgan Rd.
DESCRIPTION:PJ's Four Star Estate Sales Presents sale Fri. from 9-3 & Sat. 9-1 in MUSTANG north of 152 off Morgan Rd. PJ'S Four Star Estate Sales llc 
UID:1776878522
STREET-ADDRESS:See website
POSTAL-CODE:73064
LOCALITY:Mustang
REGION:ABBREV=OK
COUNTRY:ABBREV=US;ABBREV=USA:United States
URL;TYPE=Event Listing:https://estatesales.org/estate-sales/ok/mustang/73064/pjs-four-star-estate-sales-2398320
PRIORITY:1
CLASS:PUBLIC
SEQUENCE:0
STATUS:CONFIRMED
TRANSP:OPAQUE
END:VEVENT
END:VCALENDAR
