BEGIN:VCALENDAR
VERSION:2.0
METHOD:PUBLISH
BEGIN:VEVENT
DTSTART:20250829T160000Z
DTEND:20250830T200000Z
LOCATION:Bethel Island, CA 94511
TRANSP: OPAQUE
SEQUENCE:0
UID:
DTSTAMP:20260423T063005Z
SUMMARY:Winemaker, Pilot and Collector's Estate in Bethel Island, Ca!
DESCRIPTION:Winemaker, Pilot and Collector's Estate in Bethel Island, Ca! J and C Estate Sales 
UID:1776947405
STREET-ADDRESS:See website
POSTAL-CODE:94511
LOCALITY:Bethel Island
REGION:ABBREV=CA
COUNTRY:ABBREV=US;ABBREV=USA:United States
URL;TYPE=Event Listing:https://estatesales.org/estate-sales/ca/bethel-island/94511/winemaker-pilot-and-collectors-estate-2398119
PRIORITY:1
CLASS:PUBLIC
SEQUENCE:0
STATUS:CONFIRMED
TRANSP:OPAQUE
END:VEVENT
END:VCALENDAR
