BEGIN:VCALENDAR
VERSION:2.0
METHOD:PUBLISH
BEGIN:VEVENT
DTSTART:20250829T150000Z
DTEND:20250830T210000Z
LOCATION:Gilbert, AZ 85297
TRANSP: OPAQUE
SEQUENCE:0
UID:
DTSTAMP:20260424T125535Z
SUMMARY:Grasons of Gilbert 2-Day Estate Sale in Gilbert, AZ
DESCRIPTION:Grasons of Gilbert 2-Day Estate Sale in Gilbert, AZ Grasons of Gilbert, AZ 
UID:1777056935
STREET-ADDRESS:See website
POSTAL-CODE:85297
LOCALITY:Gilbert
REGION:ABBREV=AZ
COUNTRY:ABBREV=US;ABBREV=USA:United States
URL;TYPE=Event Listing:https://estatesales.org/estate-sales/az/gilbert/85297/grasons-of-gilbert-2day-estate-2398360
PRIORITY:1
CLASS:PUBLIC
SEQUENCE:0
STATUS:CONFIRMED
TRANSP:OPAQUE
END:VEVENT
END:VCALENDAR
