BEGIN:VCALENDAR
VERSION:2.0
METHOD:PUBLISH
BEGIN:VEVENT
DTSTART:20250829T150000Z
DTEND:20250830T210000Z
LOCATION:Chandler, AZ 85248
TRANSP: OPAQUE
SEQUENCE:0
UID:
DTSTAMP:20260424T180638Z
SUMMARY:***TWO DAY SALE IN SUN LAKES***
DESCRIPTION:***TWO DAY SALE IN SUN LAKES*** Anderson Family Estate Sales & Services, LLC 
UID:1777075598
STREET-ADDRESS:See website
POSTAL-CODE:85248
LOCALITY:Chandler
REGION:ABBREV=AZ
COUNTRY:ABBREV=US;ABBREV=USA:United States
URL;TYPE=Event Listing:https://estatesales.org/estate-sales/az/chandler/85248/two-day-sale-in-sun-2397255
PRIORITY:1
CLASS:PUBLIC
SEQUENCE:0
STATUS:CONFIRMED
TRANSP:OPAQUE
END:VEVENT
END:VCALENDAR
