BEGIN:VCALENDAR
VERSION:2.0
METHOD:PUBLISH
BEGIN:VEVENT
DTSTART:20240829T153000Z
DTEND:20240831T213000Z
LOCATION:Rancho Palos Verdes, CA 90275
TRANSP: OPAQUE
SEQUENCE:0
UID:
DTSTAMP:20260420T023523Z
SUMMARY:75% off Jewelry/50% Off Household Items/40% Off Swarovski Palos Verdes - No Signs Posted
DESCRIPTION:75% off Jewelry/50% Off Household Items/40% Off Swarovski Palos Verdes - No Signs Posted Diamond Heirlooms Estate Sales & Consulting  LLC 
UID:1776674123
STREET-ADDRESS:See website
POSTAL-CODE:90275
LOCALITY:Rancho Palos Verdes
REGION:ABBREV=CA
COUNTRY:ABBREV=US;ABBREV=USA:United States
URL;TYPE=Event Listing:https://estatesales.org/estate-sales/ca/rancho-palos-verdes/90275/75-off-jewelry50-off-household-2331655
PRIORITY:1
CLASS:PUBLIC
SEQUENCE:0
STATUS:CONFIRMED
TRANSP:OPAQUE
END:VEVENT
END:VCALENDAR
