BEGIN:VCALENDAR
VERSION:2.0
METHOD:PUBLISH
BEGIN:VEVENT
DTSTART:20140829T100000Z
DTEND:20140903T000000Z
LOCATION:By appointment only.
TRANSP: OPAQUE
SEQUENCE:0
UID:
DTSTAMP:20260421T054236Z
SUMMARY:CTOnline Auction in Clarkston, MI 
DESCRIPTION:CTOnline Auction in Clarkston, MI  Caring Transitions of Oakland County MI 
UID:1776771756
STREET-ADDRESS:See website
POSTAL-CODE:48348
LOCALITY:Clarkston
REGION:ABBREV=MI
COUNTRY:ABBREV=US;ABBREV=USA:United States
URL;TYPE=Event Listing:https://estatesales.org/estate-sales/mi/clarkston/48348/ctonline-auction-in-clarkston-mi-445188
PRIORITY:1
CLASS:PUBLIC
SEQUENCE:0
STATUS:CONFIRMED
TRANSP:OPAQUE
END:VEVENT
END:VCALENDAR
