BEGIN:VCALENDAR
VERSION:2.0
METHOD:PUBLISH
BEGIN:VEVENT
DTSTART:20250828T170000Z
DTEND:20250831T230000Z
LOCATION:West Hollywood, CA 90048
TRANSP: OPAQUE
SEQUENCE:0
UID:
DTSTAMP:20260423T084639Z
SUMMARY:ONLINE STORE IS LIVE - Hybrid Sale - 20% OFF FRIDAY - West Hollywood - Powered by ESTATESAIL
DESCRIPTION:ONLINE STORE IS LIVE - Hybrid Sale - 20% OFF FRIDAY - West Hollywood - Powered by ESTATESAIL EstateSail 
UID:1776955599
STREET-ADDRESS:See website
POSTAL-CODE:90048
LOCALITY:West Hollywood
REGION:ABBREV=CA
COUNTRY:ABBREV=US;ABBREV=USA:United States
URL;TYPE=Event Listing:https://estatesales.org/estate-sales/ca/west-hollywood/90048/west-hollywood-classic-luxury-estate-2398202
PRIORITY:1
CLASS:PUBLIC
SEQUENCE:0
STATUS:CONFIRMED
TRANSP:OPAQUE
END:VEVENT
END:VCALENDAR
