BEGIN:VCALENDAR
VERSION:2.0
METHOD:PUBLISH
BEGIN:VEVENT
DTSTART:20250828T130000Z
DTEND:20250830T200000Z
LOCATION:Plano, TX 75093
TRANSP: OPAQUE
SEQUENCE:0
UID:
DTSTAMP:20260421T170452Z
SUMMARY:Warehouse Sale! 25% OFF day 1!
DESCRIPTION:Warehouse Sale! 25% OFF day 1! Chickadee Lane Estate and Moving Sales, LLC 
UID:1776812692
STREET-ADDRESS:See website
POSTAL-CODE:75093
LOCALITY:Plano
REGION:ABBREV=TX
COUNTRY:ABBREV=US;ABBREV=USA:United States
URL;TYPE=Event Listing:https://estatesales.org/estate-sales/tx/plano/75093/warehouse-sale-25-off-day-2397974
PRIORITY:1
CLASS:PUBLIC
SEQUENCE:0
STATUS:CONFIRMED
TRANSP:OPAQUE
END:VEVENT
END:VCALENDAR
