BEGIN:VCALENDAR
VERSION:2.0
METHOD:PUBLISH
BEGIN:VEVENT
DTSTART:20210828T150000Z
DTEND:20210829T200000Z
LOCATION:Wadsworth, IL 60083
TRANSP: OPAQUE
SEQUENCE:0
UID:
DTSTAMP:20260425T162412Z
SUMMARY:50% EVERYTHING Sunday! Blue Moon Exciting Wadsworth IL Sale! Beautiful Like New Modern Furniture/Art + Much More!
DESCRIPTION:50% EVERYTHING Sunday! Blue Moon Exciting Wadsworth IL Sale! Beautiful Like New Modern Furniture/Art + Much More! Blue Moon Estate Sales 
UID:1777155852
STREET-ADDRESS:See website
POSTAL-CODE:60083
LOCALITY:Wadsworth
REGION:ABBREV=IL
COUNTRY:ABBREV=US;ABBREV=USA:United States
URL;TYPE=Event Listing:https://estatesales.org/estate-sales/il/wadsworth/60083/50-everything-sunday-blue-moon-1945601
PRIORITY:1
CLASS:PUBLIC
SEQUENCE:0
STATUS:CONFIRMED
TRANSP:OPAQUE
END:VEVENT
END:VCALENDAR
