BEGIN:VCALENDAR
VERSION:2.0
METHOD:PUBLISH
BEGIN:VEVENT
DTSTART:20210828T160000Z
DTEND:20210829T230000Z
LOCATION:Studio City, CA 91604
TRANSP: OPAQUE
SEQUENCE:0
UID:
DTSTAMP:20260424T202746Z
SUMMARY:Ever So Splendid Studio City Sale 50% Off (see details)
DESCRIPTION:Ever So Splendid Studio City Sale 50% Off (see details) Sharon Yost Estate Sales 
UID:1777084066
STREET-ADDRESS:See website
POSTAL-CODE:91604
LOCALITY:Studio City
REGION:ABBREV=CA
COUNTRY:ABBREV=US;ABBREV=USA:United States
URL;TYPE=Event Listing:https://estatesales.org/estate-sales/ca/studio-city/91604/ever-so-splendid-studio-city-1947969
PRIORITY:1
CLASS:PUBLIC
SEQUENCE:0
STATUS:CONFIRMED
TRANSP:OPAQUE
END:VEVENT
END:VCALENDAR
