BEGIN:VCALENDAR
VERSION:2.0
METHOD:PUBLISH
BEGIN:VEVENT
DTSTART:20210828T120000Z
DTEND:20210829T190000Z
LOCATION:Perryville, MO 63775
TRANSP: OPAQUE
SEQUENCE:0
UID:
DTSTAMP:20260419T163230Z
SUMMARY:Antiques, Collectibles, tools, huge Christmas collection and more!
DESCRIPTION:Antiques, Collectibles, tools, huge Christmas collection and more! Lizzy Lou Estate Sales, LLC 
UID:1776637950
STREET-ADDRESS:See website
POSTAL-CODE:63775
LOCALITY:Perryville
REGION:ABBREV=MO
COUNTRY:ABBREV=US;ABBREV=USA:United States
URL;TYPE=Event Listing:https://estatesales.org/estate-sales/mo/perryville/63775/antiques-collectibles-tools-huge-christmas-1948267
PRIORITY:1
CLASS:PUBLIC
SEQUENCE:0
STATUS:CONFIRMED
TRANSP:OPAQUE
END:VEVENT
END:VCALENDAR
