BEGIN:VCALENDAR
VERSION:2.0
METHOD:PUBLISH
BEGIN:VEVENT
DTSTART:20210828T120000Z
DTEND:20210828T180000Z
LOCATION:Butler, PA 16001
TRANSP: OPAQUE
SEQUENCE:0
UID:
DTSTAMP:20260419T082716Z
SUMMARY:Estate/Household Liquidation Butler, PA
DESCRIPTION:Estate/Household Liquidation Butler, PA Williams & Barron Estate Services LLC 
UID:1776608836
STREET-ADDRESS:See website
POSTAL-CODE:16001
LOCALITY:Butler
REGION:ABBREV=PA
COUNTRY:ABBREV=US;ABBREV=USA:United States
URL;TYPE=Event Listing:https://estatesales.org/estate-sales/pa/butler-/16001/estatehousehold-liquidation-butler-pa-1948311
PRIORITY:1
CLASS:PUBLIC
SEQUENCE:0
STATUS:CONFIRMED
TRANSP:OPAQUE
END:VEVENT
END:VCALENDAR
