BEGIN:VCALENDAR
VERSION:2.0
METHOD:PUBLISH
BEGIN:VEVENT
DTSTART:20190828T150000Z
DTEND:20190831T170000Z
LOCATION:Three Rivers, MI 49093
TRANSP: OPAQUE
SEQUENCE:0
UID:
DTSTAMP:20260422T173108Z
SUMMARY:Estate Sale 
DESCRIPTION:Estate Sale  Pack Rat Online Auctions 
UID:1776900668
STREET-ADDRESS:See website
POSTAL-CODE:49093
LOCALITY:Three Rivers
REGION:ABBREV=MI
COUNTRY:ABBREV=US;ABBREV=USA:United States
URL;TYPE=Event Listing:https://estatesales.org/estate-sales/mi/three-rivers/49093/estate-sale-1702717
PRIORITY:1
CLASS:PUBLIC
SEQUENCE:0
STATUS:CONFIRMED
TRANSP:OPAQUE
END:VEVENT
END:VCALENDAR
