BEGIN:VCALENDAR
VERSION:2.0
METHOD:PUBLISH
BEGIN:VEVENT
DTSTART:20140828T180000Z
DTEND:20140830T200000Z
LOCATION:Southampton, NY 11968
TRANSP: OPAQUE
SEQUENCE:0
UID:
DTSTAMP:20260423T224646Z
SUMMARY:METICULOUS 6,000 SQ FT LUXURY HOME
DESCRIPTION:METICULOUS 6,000 SQ FT LUXURY HOME re.luxeHamptons 
UID:1777006006
STREET-ADDRESS:See website
POSTAL-CODE:11968
LOCALITY:Southampton
REGION:ABBREV=NY
COUNTRY:ABBREV=US;ABBREV=USA:United States
URL;TYPE=Event Listing:https://estatesales.org/estate-sales/ny/southampton/11968/meticulous-6000-sq-ft-luxury-445193
PRIORITY:1
CLASS:PUBLIC
SEQUENCE:0
STATUS:CONFIRMED
TRANSP:OPAQUE
END:VEVENT
END:VCALENDAR
