BEGIN:VCALENDAR
VERSION:2.0
METHOD:PUBLISH
BEGIN:VEVENT
DTSTART:20250827T130000Z
DTEND:20250830T190000Z
LOCATION:Westwood, NJ 07675
TRANSP: OPAQUE
SEQUENCE:0
UID:
DTSTAMP:20260423T130248Z
SUMMARY:237 Rivervale Avenue
DESCRIPTION:237 Rivervale Avenue Town & Country Estate & Moving Sales 
UID:1776970968
STREET-ADDRESS:See website
POSTAL-CODE:07675
LOCALITY:Westwood
REGION:ABBREV=NJ
COUNTRY:ABBREV=US;ABBREV=USA:United States
URL;TYPE=Event Listing:https://estatesales.org/estate-sales/nj/river-vale/07675/237-rivervale-avenue-2398279
PRIORITY:1
CLASS:PUBLIC
SEQUENCE:0
STATUS:CONFIRMED
TRANSP:OPAQUE
END:VEVENT
END:VCALENDAR
