BEGIN:VCALENDAR
VERSION:2.0
METHOD:PUBLISH
BEGIN:VEVENT
DTSTART:20210827T140000Z
DTEND:20210828T210000Z
LOCATION:Marshall, WI 53559
TRANSP: OPAQUE
SEQUENCE:0
UID:
DTSTAMP:20260424T200453Z
SUMMARY:Cozy Condo Estate Sale 8/27 & 8/28
DESCRIPTION:Cozy Condo Estate Sale 8/27 & 8/28 Barth Estate Sales & Services LLC 
UID:1777082693
STREET-ADDRESS:See website
POSTAL-CODE:53559
LOCALITY:Marshall
REGION:ABBREV=WI
COUNTRY:ABBREV=US;ABBREV=USA:United States
URL;TYPE=Event Listing:https://estatesales.org/estate-sales/wi/marshall/53559/cozy-condo-estate-sale-827-1949297
PRIORITY:1
CLASS:PUBLIC
SEQUENCE:0
STATUS:CONFIRMED
TRANSP:OPAQUE
END:VEVENT
END:VCALENDAR
