BEGIN:VCALENDAR
VERSION:2.0
METHOD:PUBLISH
BEGIN:VEVENT
DTSTART:20190827T200000Z
DTEND:20190828T023000Z
LOCATION:Chicago, IL 60645
TRANSP: OPAQUE
SEQUENCE:0
UID:
DTSTAMP:20260420T094354Z
SUMMARY:Auction! Several Good Estates, Plus Consignments! Antiques, Vintage, Mid-Century, Jewelry & Coins!
DESCRIPTION:Auction! Several Good Estates, Plus Consignments! Antiques, Vintage, Mid-Century, Jewelry & Coins! Direct Auction Galleries, Inc. 
UID:1776699834
STREET-ADDRESS:See website
POSTAL-CODE:60645
LOCALITY:Chicago
REGION:ABBREV=IL
COUNTRY:ABBREV=US;ABBREV=USA:United States
URL;TYPE=Event Listing:https://estatesales.org/estate-sales/il/chicago/60645/auction-several-good-estates-plus-1707695
PRIORITY:1
CLASS:PUBLIC
SEQUENCE:0
STATUS:CONFIRMED
TRANSP:OPAQUE
END:VEVENT
END:VCALENDAR
