BEGIN:VCALENDAR
VERSION:2.0
METHOD:PUBLISH
BEGIN:VEVENT
DTSTART:20230826T150000Z
DTEND:20230827T200000Z
LOCATION:Glenview, IL 60025
TRANSP: OPAQUE
SEQUENCE:0
UID:
DTSTAMP:20260425T162733Z
SUMMARY:Mid Century Modern in Pristine Home
DESCRIPTION:Mid Century Modern in Pristine Home Meadow Lane Estate Sales 
UID:1777156053
STREET-ADDRESS:See website
POSTAL-CODE:60025
LOCALITY:Glenview
REGION:ABBREV=IL
COUNTRY:ABBREV=US;ABBREV=USA:United States
URL;TYPE=Event Listing:https://estatesales.org/estate-sales/il/glenview/60025/mid-century-modern-in-pristine-2223283
PRIORITY:1
CLASS:PUBLIC
SEQUENCE:0
STATUS:CONFIRMED
TRANSP:OPAQUE
END:VEVENT
END:VCALENDAR
