BEGIN:VCALENDAR
VERSION:2.0
METHOD:PUBLISH
BEGIN:VEVENT
DTSTART:20230826T170000Z
DTEND:20230826T210000Z
LOCATION:Phoenix, AZ 85032
TRANSP: OPAQUE
SEQUENCE:0
UID:
DTSTAMP:20260421T230011Z
SUMMARY:Great Home Located in the Phoenix Area
DESCRIPTION:Great Home Located in the Phoenix Area Boyds AZ 
UID:1776834011
STREET-ADDRESS:See website
POSTAL-CODE:85032
LOCALITY:Phoenix
REGION:ABBREV=AZ
COUNTRY:ABBREV=US;ABBREV=USA:United States
URL;TYPE=Event Listing:https://estatesales.org/estate-sales/az/phoenix/85032/great-home-located-in-the-2221059
PRIORITY:1
CLASS:PUBLIC
SEQUENCE:0
STATUS:CONFIRMED
TRANSP:OPAQUE
END:VEVENT
END:VCALENDAR
