BEGIN:VCALENDAR
VERSION:2.0
METHOD:PUBLISH
BEGIN:VEVENT
DTSTART:20220826T170000Z
DTEND:20220828T210000Z
LOCATION:Roscommon, MI 48653
TRANSP: OPAQUE
SEQUENCE:0
UID:
DTSTAMP:20260423T233334Z
SUMMARY:Seymour Estate Sale
DESCRIPTION:Seymour Estate Sale Black River Estate Sales 
UID:1777008814
STREET-ADDRESS:See website
POSTAL-CODE:48653
LOCALITY:Roscommon
REGION:ABBREV=MI
COUNTRY:ABBREV=US;ABBREV=USA:United States
URL;TYPE=Event Listing:https://estatesales.org/estate-sales/mi/roscommon-/48653/seymour-estate-sale-2083955
PRIORITY:1
CLASS:PUBLIC
SEQUENCE:0
STATUS:CONFIRMED
TRANSP:OPAQUE
END:VEVENT
END:VCALENDAR
