BEGIN:VCALENDAR
VERSION:2.0
METHOD:PUBLISH
BEGIN:VEVENT
DTSTART:20220826T120000Z
DTEND:20220828T190000Z
LOCATION:Mobile, AL 36619
TRANSP: OPAQUE
SEQUENCE:0
UID:
DTSTAMP:20260422T064611Z
SUMMARY:Antique Man Cave Collectible Sale West Mobile
DESCRIPTION:Antique Man Cave Collectible Sale West Mobile Uncommon Artifacts Estate Services LLC 
UID:1776861971
STREET-ADDRESS:See website
POSTAL-CODE:36619
LOCALITY:Mobile
REGION:ABBREV=AL
COUNTRY:ABBREV=US;ABBREV=USA:United States
URL;TYPE=Event Listing:https://estatesales.org/estate-sales/al/mobile/36619/antique-man-cave-collectible-sale-2076727
PRIORITY:1
CLASS:PUBLIC
SEQUENCE:0
STATUS:CONFIRMED
TRANSP:OPAQUE
END:VEVENT
END:VCALENDAR
