BEGIN:VCALENDAR
VERSION:2.0
METHOD:PUBLISH
BEGIN:VEVENT
DTSTART:20220826T140000Z
DTEND:20220827T220000Z
LOCATION:Colorado Springs, CO 80923
TRANSP: OPAQUE
SEQUENCE:0
UID:
DTSTAMP:20260420T204703Z
SUMMARY:Great Variety entire house estate sale 
DESCRIPTION:Great Variety entire house estate sale  Total Care Estate and Property Services 
UID:1776739623
STREET-ADDRESS:See website
POSTAL-CODE:80923
LOCALITY:Colorado Springs
REGION:ABBREV=CO
COUNTRY:ABBREV=US;ABBREV=USA:United States
URL;TYPE=Event Listing:https://estatesales.org/estate-sales/co/colorado-springs/80923/great-variety-entire-house-estate-2086455
PRIORITY:1
CLASS:PUBLIC
SEQUENCE:0
STATUS:CONFIRMED
TRANSP:OPAQUE
END:VEVENT
END:VCALENDAR
