BEGIN:VCALENDAR
VERSION:2.0
METHOD:PUBLISH
BEGIN:VEVENT
DTSTART:20170826T120000Z
DTEND:20170826T180000Z
LOCATION:Nahant, MA 01908
TRANSP: OPAQUE
SEQUENCE:0
UID:
DTSTAMP:20260419T104549Z
SUMMARY:Nahant Down-sizing Sale
DESCRIPTION:Nahant Down-sizing Sale Precision Estate Sales 
UID:1776617149
STREET-ADDRESS:See website
POSTAL-CODE:01908
LOCALITY:Nahant
REGION:ABBREV=MA
COUNTRY:ABBREV=US;ABBREV=USA:United States
URL;TYPE=Event Listing:https://estatesales.org/estate-sales/ma/nahant/01908/nahant-downsizing-sale-1356373
PRIORITY:1
CLASS:PUBLIC
SEQUENCE:0
STATUS:CONFIRMED
TRANSP:OPAQUE
END:VEVENT
END:VCALENDAR
