BEGIN:VCALENDAR
VERSION:2.0
METHOD:PUBLISH
BEGIN:VEVENT
DTSTART:20110826T150000Z
DTEND:20110828T230000Z
LOCATION:Los Angeles, CA 90027
TRANSP: OPAQUE
SEQUENCE:0
UID:
DTSTAMP:20260420T222148Z
SUMMARY:REALLY RETRO HOLLYWOOD HILLS ESTATE SALE!
DESCRIPTION:REALLY RETRO HOLLYWOOD HILLS ESTATE SALE! Retro Robin Estate Sales, LLC 
UID:1776745308
STREET-ADDRESS:See website
POSTAL-CODE:90027
LOCALITY:Los Angeles
REGION:ABBREV=CA
COUNTRY:ABBREV=US;ABBREV=USA:United States
URL;TYPE=Event Listing:https://estatesales.org/estate-sales/ca/los-angeles/90027/really-retro-hollywood-hills-estate-126338
PRIORITY:1
CLASS:PUBLIC
SEQUENCE:0
STATUS:CONFIRMED
TRANSP:OPAQUE
END:VEVENT
END:VCALENDAR
