BEGIN:VCALENDAR
VERSION:2.0
METHOD:PUBLISH
BEGIN:VEVENT
DTSTART:20240825T153000Z
DTEND:20240825T213000Z
LOCATION:Harbor City, CA 90710
TRANSP: OPAQUE
SEQUENCE:0
UID:
DTSTAMP:20260420T020309Z
SUMMARY:75% off Sunday 8/25 (8:30A - 2:30P) - Glammed Up
DESCRIPTION:75% off Sunday 8/25 (8:30A - 2:30P) - Glammed Up Diamond Heirlooms Estate Sales & Consulting  LLC 
UID:1776672189
STREET-ADDRESS:See website
POSTAL-CODE:90710
LOCALITY:Harbor City
REGION:ABBREV=CA
COUNTRY:ABBREV=US;ABBREV=USA:United States
URL;TYPE=Event Listing:https://estatesales.org/estate-sales/ca/harbor-city/90710/75-off-sunday-825-830a-2335665
PRIORITY:1
CLASS:PUBLIC
SEQUENCE:0
STATUS:CONFIRMED
TRANSP:OPAQUE
END:VEVENT
END:VCALENDAR
