BEGIN:VCALENDAR
VERSION:2.0
METHOD:PUBLISH
BEGIN:VEVENT
DTSTART:20230825T150000Z
DTEND:20230827T190000Z
LOCATION:Waconia, MN 55387
TRANSP: OPAQUE
SEQUENCE:0
UID:
DTSTAMP:20260424T040428Z
SUMMARY:Moving to Alaska Tag/Estate Sale
DESCRIPTION:Moving to Alaska Tag/Estate Sale Moving On Asset Liquidation 
UID:1777025068
STREET-ADDRESS:See website
POSTAL-CODE:55387
LOCALITY:Waconia
REGION:ABBREV=MN
COUNTRY:ABBREV=US;ABBREV=USA:United States
URL;TYPE=Event Listing:https://estatesales.org/estate-sales/mn/waconia/55387/moving-to-alaska-tagestate-sale-2221647
PRIORITY:1
CLASS:PUBLIC
SEQUENCE:0
STATUS:CONFIRMED
TRANSP:OPAQUE
END:VEVENT
END:VCALENDAR
