BEGIN:VCALENDAR
VERSION:2.0
METHOD:PUBLISH
BEGIN:VEVENT
DTSTART:20230825T160000Z
DTEND:20230826T210000Z
LOCATION:Long Beach, CA 90808
TRANSP: OPAQUE
SEQUENCE:0
UID:
DTSTAMP:20260420T172946Z
SUMMARY:Plus Size Women's Clothes, Tools, Vintage, & More Sale - Long Beach!!
DESCRIPTION:Plus Size Women's Clothes, Tools, Vintage, & More Sale - Long Beach!! Pointe Estate Specialists 
UID:1776727786
STREET-ADDRESS:See website
POSTAL-CODE:90808
LOCALITY:Long Beach
REGION:ABBREV=CA
COUNTRY:ABBREV=US;ABBREV=USA:United States
URL;TYPE=Event Listing:https://estatesales.org/estate-sales/ca/long-beach/90808/plus-size-womens-clothes-tools-2222883
PRIORITY:1
CLASS:PUBLIC
SEQUENCE:0
STATUS:CONFIRMED
TRANSP:OPAQUE
END:VEVENT
END:VCALENDAR
