BEGIN:VCALENDAR
VERSION:2.0
METHOD:PUBLISH
BEGIN:VEVENT
DTSTART:20180825T133000Z
DTEND:20180825T190000Z
LOCATION:Marlboro, NY 12542
TRANSP: OPAQUE
SEQUENCE:0
UID:
DTSTAMP:20260424T071813Z
SUMMARY:Garage Sale in Storage Unit in Marlboro, NY on Sat, Aug 25th
DESCRIPTION:Garage Sale in Storage Unit in Marlboro, NY on Sat, Aug 25th Stephanie's Storage Sale 
UID:1777036693
STREET-ADDRESS:See website
POSTAL-CODE:12542
LOCALITY:Marlboro
REGION:ABBREV=NY
COUNTRY:ABBREV=US;ABBREV=USA:United States
URL;TYPE=Event Listing:https://estatesales.org/estate-sales/ny/marlboro/12542/garage-sale-in-storage-unit-1563155
PRIORITY:1
CLASS:PUBLIC
SEQUENCE:0
STATUS:CONFIRMED
TRANSP:OPAQUE
END:VEVENT
END:VCALENDAR
