BEGIN:VCALENDAR
VERSION:2.0
METHOD:PUBLISH
BEGIN:VEVENT
DTSTART:20180825T160000Z
DTEND:20180826T230000Z
LOCATION:Mesa, AZ 85209
TRANSP: OPAQUE
SEQUENCE:0
UID:
DTSTAMP:20260420T061013Z
SUMMARY:LIQUIDATION SALE EVERYTHING MUST GO! 50%- 75% OFF
DESCRIPTION:LIQUIDATION SALE EVERYTHING MUST GO! 50%- 75% OFF Blue Barn Estate Sales 
UID:1776687013
STREET-ADDRESS:See website
POSTAL-CODE:85209
LOCALITY:Mesa
REGION:ABBREV=AZ
COUNTRY:ABBREV=US;ABBREV=USA:United States
URL;TYPE=Event Listing:https://estatesales.org/estate-sales/az/mesa/85209/liquidation-sale-everything-must-go-1562983
PRIORITY:1
CLASS:PUBLIC
SEQUENCE:0
STATUS:CONFIRMED
TRANSP:OPAQUE
END:VEVENT
END:VCALENDAR
