BEGIN:VCALENDAR
VERSION:2.0
METHOD:PUBLISH
BEGIN:VEVENT
DTSTART:20180825T120000Z
DTEND:20180826T190000Z
LOCATION:Virginia Beach, VA 23453
TRANSP: OPAQUE
SEQUENCE:0
UID:
DTSTAMP:20260423T072836Z
SUMMARY:Warehouse Sale
DESCRIPTION:Warehouse Sale T-N-T Treasures, Inc. 
UID:1776950916
STREET-ADDRESS:See website
POSTAL-CODE:23453
LOCALITY:Virginia Beach
REGION:ABBREV=VA
COUNTRY:ABBREV=US;ABBREV=USA:United States
URL;TYPE=Event Listing:https://estatesales.org/estate-sales/va/virginia-beach/23453/warehouse-sale-1562511
PRIORITY:1
CLASS:PUBLIC
SEQUENCE:0
STATUS:CONFIRMED
TRANSP:OPAQUE
END:VEVENT
END:VCALENDAR
