BEGIN:VCALENDAR
VERSION:2.0
METHOD:PUBLISH
BEGIN:VEVENT
DTSTART:20250824T200000Z
DTEND:20250824T230000Z
LOCATION:Oklahoma City, OK 73122
TRANSP: OPAQUE
SEQUENCE:0
UID:
DTSTAMP:20260421T091247Z
SUMMARY:3 hours only huge blow out 75% off or less. Sunday only 2 until 5
DESCRIPTION:3 hours only huge blow out 75% off or less. Sunday only 2 until 5 Justice Estate Liquidations 
UID:1776784367
STREET-ADDRESS:See website
POSTAL-CODE:73122
LOCALITY:Oklahoma City
REGION:ABBREV=OK
COUNTRY:ABBREV=US;ABBREV=USA:United States
URL;TYPE=Event Listing:https://estatesales.org/estate-sales/ok/oklahoma-city/73122/3-hours-only-huge-blow-2397841
PRIORITY:1
CLASS:PUBLIC
SEQUENCE:0
STATUS:CONFIRMED
TRANSP:OPAQUE
END:VEVENT
END:VCALENDAR
