BEGIN:VCALENDAR
VERSION:2.0
METHOD:PUBLISH
BEGIN:VEVENT
DTSTART:20240824T153000Z
DTEND:20240825T223000Z
LOCATION:San Pedro, CA 90732
TRANSP: OPAQUE
SEQUENCE:0
UID:
DTSTAMP:20260419T223102Z
SUMMARY:*50% Off Sunday - Password is "A Room with a View"
DESCRIPTION:*50% Off Sunday - Password is "A Room with a View" Diamond Heirlooms Estate Sales & Consulting  LLC 
UID:1776659462
STREET-ADDRESS:See website
POSTAL-CODE:90732
LOCALITY:San Pedro
REGION:ABBREV=CA
COUNTRY:ABBREV=US;ABBREV=USA:United States
URL;TYPE=Event Listing:https://estatesales.org/estate-sales/ca/san-pedro/90732/50-off-sunday-password-is-2327904
PRIORITY:1
CLASS:PUBLIC
SEQUENCE:0
STATUS:CONFIRMED
TRANSP:OPAQUE
END:VEVENT
END:VCALENDAR
