BEGIN:VCALENDAR
VERSION:2.0
METHOD:PUBLISH
BEGIN:VEVENT
DTSTART:20230824T160000Z
DTEND:20230826T190000Z
LOCATION:Bellevue, WA 98006
TRANSP: OPAQUE
SEQUENCE:0
UID:
DTSTAMP:20260424T133558Z
SUMMARY:Bellevue estate sale 
DESCRIPTION:Bellevue estate sale  A&W Helping Hands Estate Sale services and full cleanouts 
UID:1777059358
STREET-ADDRESS:See website
POSTAL-CODE:98006
LOCALITY:Bellevue
REGION:ABBREV=WA
COUNTRY:ABBREV=US;ABBREV=USA:United States
URL;TYPE=Event Listing:https://estatesales.org/estate-sales/wa/bellevue/98006/bellevue-estate-sale-2222981
PRIORITY:1
CLASS:PUBLIC
SEQUENCE:0
STATUS:CONFIRMED
TRANSP:OPAQUE
END:VEVENT
END:VCALENDAR
