BEGIN:VCALENDAR
VERSION:2.0
METHOD:PUBLISH
BEGIN:VEVENT
DTSTART:20230824T120000Z
DTEND:20230826T160000Z
LOCATION:Saint Petersburg, FL 33703
TRANSP: OPAQUE
SEQUENCE:0
UID:
DTSTAMP:20260423T094747Z
SUMMARY:Baby Boomers St. Petersburg Estate Sale
DESCRIPTION:Baby Boomers St. Petersburg Estate Sale Baby Boomers Estate Sales 
UID:1776959267
STREET-ADDRESS:See website
POSTAL-CODE:33703
LOCALITY:Saint Petersburg
REGION:ABBREV=FL
COUNTRY:ABBREV=US;ABBREV=USA:United States
URL;TYPE=Event Listing:https://estatesales.org/estate-sales/fl/saint-petersburg/33703/baby-boomers-st-petersburg-estate-2221089
PRIORITY:1
CLASS:PUBLIC
SEQUENCE:0
STATUS:CONFIRMED
TRANSP:OPAQUE
END:VEVENT
END:VCALENDAR
