BEGIN:VCALENDAR
VERSION:2.0
METHOD:PUBLISH
BEGIN:VEVENT
DTSTART:20190824T150000Z
DTEND:20190825T210000Z
LOCATION:Fargo, ND 58103
TRANSP: OPAQUE
SEQUENCE:0
UID:
DTSTAMP:20260425T212343Z
SUMMARY:Helping Hands, LLC's Thompson Estate Sale
DESCRIPTION:Helping Hands, LLC's Thompson Estate Sale Helping Hands 
UID:1777173823
STREET-ADDRESS:See website
POSTAL-CODE:58103
LOCALITY:Fargo
REGION:ABBREV=ND
COUNTRY:ABBREV=US;ABBREV=USA:United States
URL;TYPE=Event Listing:https://estatesales.org/estate-sales/nd/fargo/58103/helping-hands-llcs-thompson-estate-1707225
PRIORITY:1
CLASS:PUBLIC
SEQUENCE:0
STATUS:CONFIRMED
TRANSP:OPAQUE
END:VEVENT
END:VCALENDAR
