BEGIN:VCALENDAR
VERSION:2.0
METHOD:PUBLISH
BEGIN:VEVENT
DTSTART:20190824T160000Z
DTEND:20190825T220000Z
LOCATION:Santa Rosa, CA 95404
TRANSP: OPAQUE
SEQUENCE:0
UID:
DTSTAMP:20260421T124152Z
SUMMARY:FINAL SALE OF HOSTETTER ESTATE & OFFICE!
DESCRIPTION:FINAL SALE OF HOSTETTER ESTATE & OFFICE! Susan Gardner Estate Sales 
UID:1776796912
STREET-ADDRESS:See website
POSTAL-CODE:95404
LOCALITY:Santa Rosa
REGION:ABBREV=CA
COUNTRY:ABBREV=US;ABBREV=USA:United States
URL;TYPE=Event Listing:https://estatesales.org/estate-sales/ca/santa-rosa/95404/final-sale-of-hostetter-estate-1707397
PRIORITY:1
CLASS:PUBLIC
SEQUENCE:0
STATUS:CONFIRMED
TRANSP:OPAQUE
END:VEVENT
END:VCALENDAR
