BEGIN:VCALENDAR
VERSION:2.0
METHOD:PUBLISH
BEGIN:VEVENT
DTSTART:20180824T160000Z
DTEND:20180826T210000Z
LOCATION:Austin, TX 78731
TRANSP: OPAQUE
SEQUENCE:0
UID:
DTSTAMP:20260424T121953Z
SUMMARY:Northwest Hills  Mid Century Treasures  ***SUNDAY IS DISCOUNT DAY***
DESCRIPTION:Northwest Hills  Mid Century Treasures  ***SUNDAY IS DISCOUNT DAY*** Past 2 Present Estate Sale Service 
UID:1777054793
STREET-ADDRESS:See website
POSTAL-CODE:78731
LOCALITY:Austin
REGION:ABBREV=TX
COUNTRY:ABBREV=US;ABBREV=USA:United States
URL;TYPE=Event Listing:https://estatesales.org/estate-sales/tx/austin/78731/northwest-hills-mid-century-treasures-1551427
PRIORITY:1
CLASS:PUBLIC
SEQUENCE:0
STATUS:CONFIRMED
TRANSP:OPAQUE
END:VEVENT
END:VCALENDAR
