BEGIN:VCALENDAR
VERSION:2.0
METHOD:PUBLISH
BEGIN:VEVENT
DTSTART:20170824T160000Z
DTEND:20170826T220000Z
LOCATION:Pebble Beach, CA 93953
TRANSP: OPAQUE
SEQUENCE:0
UID:
DTSTAMP:20260424T105000Z
SUMMARY:17 Mile Drive Estate Sale
DESCRIPTION:17 Mile Drive Estate Sale
UID:1777049400
STREET-ADDRESS:See website
POSTAL-CODE:93953
LOCALITY:Pebble Beach
REGION:ABBREV=CA
COUNTRY:ABBREV=US;ABBREV=USA:United States
URL;TYPE=Event Listing:https://estatesales.org/estate-sales/ca/pebble-beach/93953/17-mile-drive-estate-sale-1350885
PRIORITY:1
CLASS:PUBLIC
SEQUENCE:0
STATUS:CONFIRMED
TRANSP:OPAQUE
END:VEVENT
END:VCALENDAR
