BEGIN:VCALENDAR
VERSION:2.0
METHOD:PUBLISH
BEGIN:VEVENT
DTSTART:20120824T170000Z
DTEND:20120826T000000Z
LOCATION:Oakland, CA 94612
TRANSP: OPAQUE
SEQUENCE:0
UID:
DTSTAMP:20260424T121809Z
SUMMARY:Giant Estate Sale Liquidation
DESCRIPTION:Giant Estate Sale Liquidation S&S ESTATE SALES 
UID:1777054689
STREET-ADDRESS:See website
POSTAL-CODE:94612
LOCALITY:Oakland
REGION:ABBREV=CA
COUNTRY:ABBREV=US;ABBREV=USA:United States
URL;TYPE=Event Listing:https://estatesales.org/estate-sales/ca/oakland/94612/giant-estate-sale-liquidation-208652
PRIORITY:1
CLASS:PUBLIC
SEQUENCE:0
STATUS:CONFIRMED
TRANSP:OPAQUE
END:VEVENT
END:VCALENDAR
