BEGIN:VCALENDAR
VERSION:2.0
METHOD:PUBLISH
BEGIN:VEVENT
DTSTART:20250823T150000Z
DTEND:20250824T200000Z
LOCATION:Hyrum, UT 84319
TRANSP: OPAQUE
SEQUENCE:0
UID:
DTSTAMP:20260423T062235Z
SUMMARY:HYRUM BIG ESTATE SALE!!! PICKERS SALE EVERYTHING MUST GO!
DESCRIPTION:HYRUM BIG ESTATE SALE!!! PICKERS SALE EVERYTHING MUST GO! OGDEN LAYTON ESTATE SALES 
UID:1776946955
STREET-ADDRESS:See website
POSTAL-CODE:84319
LOCALITY:Hyrum
REGION:ABBREV=UT
COUNTRY:ABBREV=US;ABBREV=USA:United States
URL;TYPE=Event Listing:https://estatesales.org/estate-sales/ut/hyrum/84319/hyrum-big-estate-sale-pickers-2395268
PRIORITY:1
CLASS:PUBLIC
SEQUENCE:0
STATUS:CONFIRMED
TRANSP:OPAQUE
END:VEVENT
END:VCALENDAR
